BEGIN:VCALENDAR
VERSION:2.0
PRODID:-//Mairie de Lempdes - ECPv6.15.20//NONSGML v1.0//EN
CALSCALE:GREGORIAN
METHOD:PUBLISH
X-ORIGINAL-URL:https://ville-lempdes.fr
X-WR-CALDESC:Évènements pour Mairie de Lempdes
REFRESH-INTERVAL;VALUE=DURATION:PT1H
X-Robots-Tag:noindex
X-PUBLISHED-TTL:PT1H
BEGIN:VTIMEZONE
TZID:Europe/Paris
BEGIN:DAYLIGHT
TZOFFSETFROM:+0100
TZOFFSETTO:+0200
TZNAME:CEST
DTSTART:20240331T010000
END:DAYLIGHT
BEGIN:STANDARD
TZOFFSETFROM:+0200
TZOFFSETTO:+0100
TZNAME:CET
DTSTART:20241027T010000
END:STANDARD
BEGIN:DAYLIGHT
TZOFFSETFROM:+0100
TZOFFSETTO:+0200
TZNAME:CEST
DTSTART:20250330T010000
END:DAYLIGHT
BEGIN:STANDARD
TZOFFSETFROM:+0200
TZOFFSETTO:+0100
TZNAME:CET
DTSTART:20251026T010000
END:STANDARD
BEGIN:DAYLIGHT
TZOFFSETFROM:+0100
TZOFFSETTO:+0200
TZNAME:CEST
DTSTART:20260329T010000
END:DAYLIGHT
BEGIN:STANDARD
TZOFFSETFROM:+0200
TZOFFSETTO:+0100
TZNAME:CET
DTSTART:20261025T010000
END:STANDARD
END:VTIMEZONE
BEGIN:VEVENT
DTSTART;TZID=Europe/Paris:20250830T100000
DTEND;TZID=Europe/Paris:20250830T173000
DTSTAMP:20260420T013019
CREATED:20250717T123940Z
LAST-MODIFIED:20250717T123940Z
UID:10197-1756548000-1756575000@ville-lempdes.fr
SUMMARY:Ventes délocalisées T2C le samedi 30 août 2025\, de 10h00 à 17h30 à LEMPDES.
DESCRIPTION:Ventes délocalisées T2C le samedi 30 août 2025\, de 10h00 à 17h30 à LEMPDES. \nSalle Agora\, 3 rue de la réserve (ligne – arrêt Mairie de Lempdes) \n  \nAfin de faciliter vos démarches pour la rentrée\, T2C vient à votre rencontre.\nLa vente d’abonnements T2C aura lieu le samedi 30 août 2025 de 10H00 à 17H30\, à la Salle Agora. \nPour tout autre renseignement concernant la création ou le renouvellement d’abonnements\, consulter le site internet www.t2c.fr\, rubriques « Votre titre de transport – Rentrée 2025». \nAvant de vous rendre aux permanences\, pensez à remplir le formulaire d’abonnement T2C.
URL:https://ville-lempdes.fr/event/ventes-delocalisees-t2c-le-samedi-30-aout-2025-de-10h00-a-17h30-a-lempdes/
LOCATION:Salle Agora\, 3 Rue de la Réserve\, Lempdes\, 63370\, France
ATTACH;FMTTYPE=image/png:https://ville-lempdes.fr/wp-content/uploads/2025/07/Logo_T2C.svg.png
END:VEVENT
END:VCALENDAR