BEGIN:VCALENDAR
VERSION:2.0
PRODID:-//Mairie de Lempdes - ECPv6.15.20//NONSGML v1.0//EN
CALSCALE:GREGORIAN
METHOD:PUBLISH
X-WR-CALNAME:Mairie de Lempdes
X-ORIGINAL-URL:https://ville-lempdes.fr
X-WR-CALDESC:Évènements pour Mairie de Lempdes
REFRESH-INTERVAL;VALUE=DURATION:PT1H
X-Robots-Tag:noindex
X-PUBLISHED-TTL:PT1H
BEGIN:VTIMEZONE
TZID:Europe/Paris
BEGIN:DAYLIGHT
TZOFFSETFROM:+0100
TZOFFSETTO:+0200
TZNAME:CEST
DTSTART:20240331T010000
END:DAYLIGHT
BEGIN:STANDARD
TZOFFSETFROM:+0200
TZOFFSETTO:+0100
TZNAME:CET
DTSTART:20241027T010000
END:STANDARD
BEGIN:DAYLIGHT
TZOFFSETFROM:+0100
TZOFFSETTO:+0200
TZNAME:CEST
DTSTART:20250330T010000
END:DAYLIGHT
BEGIN:STANDARD
TZOFFSETFROM:+0200
TZOFFSETTO:+0100
TZNAME:CET
DTSTART:20251026T010000
END:STANDARD
BEGIN:DAYLIGHT
TZOFFSETFROM:+0100
TZOFFSETTO:+0200
TZNAME:CEST
DTSTART:20260329T010000
END:DAYLIGHT
BEGIN:STANDARD
TZOFFSETFROM:+0200
TZOFFSETTO:+0100
TZNAME:CET
DTSTART:20261025T010000
END:STANDARD
END:VTIMEZONE
BEGIN:VEVENT
DTSTART;VALUE=DATE:20250507
DTEND;VALUE=DATE:20250510
DTSTAMP:20260420T050405
CREATED:20250428T065852Z
LAST-MODIFIED:20250428T070124Z
UID:9350-1746576000-1746835199@ville-lempdes.fr
SUMMARY:80e anniversaire de la Libération
DESCRIPTION:[ 80e anniversaire de la Libération ] \nAfin de commémorer les 80 ans de la fin de la Seconde Guerre mondiale et de la Libération\, la ville de Lempdes organise 3 jours de festivités les mercredi 7\, jeudi 8 et vendredi 9 mai 2025. \nConsultez le programme de la journée \n 
URL:https://ville-lempdes.fr/event/80e-anniversaire-de-la-liberation/
LOCATION:Lempdes\, 63370\, France
ATTACH;FMTTYPE=image/png:https://ville-lempdes.fr/wp-content/uploads/2025/04/Fete-de-la-victoire-Post-FB-.png
END:VEVENT
BEGIN:VEVENT
DTSTART;TZID=Europe/Paris:20250516T190000
DTEND;TZID=Europe/Paris:20250516T190000
DTSTAMP:20260420T050405
CREATED:20250408T131129Z
LAST-MODIFIED:20250513T092031Z
UID:9235-1747422000-1747422000@ville-lempdes.fr
SUMMARY:Conseil municipal du 16 mai 2025
DESCRIPTION:Le prochain conseil municipal aura lieu le vendredi 16 mai 2025 à 19h à l’agora – télécharger l’ordre du jour \nRetrouvez les délibérations et les décisions des Conseils Municipaux sur la page dédiée.
URL:https://ville-lempdes.fr/event/conseil-municipal-du-16-mai-2025/
LOCATION:agora
ATTACH;FMTTYPE=image/png:https://ville-lempdes.fr/wp-content/uploads/2025/04/conseil-municpal-proces_verbaux.png
END:VEVENT
BEGIN:VEVENT
DTSTART;TZID=Europe/Paris:20250517T100000
DTEND;TZID=Europe/Paris:20250517T170000
DTSTAMP:20260420T050405
CREATED:20250411T080004Z
LAST-MODIFIED:20250428T091806Z
UID:9259-1747476000-1747501200@ville-lempdes.fr
SUMMARY:Fête du jeu
DESCRIPTION:Venez découvrir une multitude d’animations lors de la fête des jeux qui se tiendra le samedi 17 mai 2025\, de 10h à 12h et de 13h à 17h\, à Lempdes. Cet événement est gratuit et accessible à tous\, une belle occasion de passer une journée en famille ! Il y en aura pour tous les goûts et pour tous les âges. \nAttention\, les enfants sont sous la responsabilité des parents durant toute la manifestation. \nConsultez le programme de la journée
URL:https://ville-lempdes.fr/event/fete-du-jeu/
LOCATION:Lempdes\, 63370\, France
ATTACH;FMTTYPE=image/png:https://ville-lempdes.fr/wp-content/uploads/2025/04/Post-Facebook-Fete-du-jeu.png
END:VEVENT
BEGIN:VEVENT
DTSTART;TZID=Europe/Paris:20250521T183000
DTEND;TZID=Europe/Paris:20250521T200000
DTSTAMP:20260420T050405
CREATED:20250513T102512Z
LAST-MODIFIED:20250513T114411Z
UID:9450-1747852200-1747857600@ville-lempdes.fr
SUMMARY:Concert annuel des classes de Formation Musicale
DESCRIPTION:L’École municipale de musique vous invite à son concert annuel\, présenté par les élèves des classes de Formation Musicale.📅 Mercredi 21 mai à 18h30📍 Salle des Fêtes \nCette année\, le concert mettra à l’honneur les musiques de jeux vidéo et d’animés : une occasion originale de (re)découvrir ces univers à travers les interprétations des élèves. \n🎵 Entrée libre – Venez nombreux !
URL:https://ville-lempdes.fr/event/concert-annuel-des-classes-de-formation-musicale/
LOCATION:salle des Fêtes\, place Charles de Gaulle\, Lempdes\, 63370\, France
ATTACH;FMTTYPE=image/png:https://ville-lempdes.fr/wp-content/uploads/2025/05/Concert-FM.png
END:VEVENT
END:VCALENDAR