BEGIN:VCALENDAR
VERSION:2.0
PRODID:-//Mairie de Lempdes - ECPv6.15.20//NONSGML v1.0//EN
CALSCALE:GREGORIAN
METHOD:PUBLISH
X-ORIGINAL-URL:https://ville-lempdes.fr
X-WR-CALDESC:Évènements pour Mairie de Lempdes
REFRESH-INTERVAL;VALUE=DURATION:PT1H
X-Robots-Tag:noindex
X-PUBLISHED-TTL:PT1H
BEGIN:VTIMEZONE
TZID:Europe/Paris
BEGIN:DAYLIGHT
TZOFFSETFROM:+0100
TZOFFSETTO:+0200
TZNAME:CEST
DTSTART:20230326T010000
END:DAYLIGHT
BEGIN:STANDARD
TZOFFSETFROM:+0200
TZOFFSETTO:+0100
TZNAME:CET
DTSTART:20231029T010000
END:STANDARD
BEGIN:DAYLIGHT
TZOFFSETFROM:+0100
TZOFFSETTO:+0200
TZNAME:CEST
DTSTART:20240331T010000
END:DAYLIGHT
BEGIN:STANDARD
TZOFFSETFROM:+0200
TZOFFSETTO:+0100
TZNAME:CET
DTSTART:20241027T010000
END:STANDARD
BEGIN:DAYLIGHT
TZOFFSETFROM:+0100
TZOFFSETTO:+0200
TZNAME:CEST
DTSTART:20250330T010000
END:DAYLIGHT
BEGIN:STANDARD
TZOFFSETFROM:+0200
TZOFFSETTO:+0100
TZNAME:CET
DTSTART:20251026T010000
END:STANDARD
BEGIN:DAYLIGHT
TZOFFSETFROM:+0100
TZOFFSETTO:+0200
TZNAME:CEST
DTSTART:20260329T010000
END:DAYLIGHT
BEGIN:STANDARD
TZOFFSETFROM:+0200
TZOFFSETTO:+0100
TZNAME:CET
DTSTART:20261025T010000
END:STANDARD
END:VTIMEZONE
BEGIN:VEVENT
DTSTART;TZID=Europe/Paris:20241231T190000
DTEND;TZID=Europe/Paris:20250101T010000
DTSTAMP:20260420T114545
CREATED:20241116T081855Z
LAST-MODIFIED:20241116T082004Z
UID:8408-1735671600-1735693200@ville-lempdes.fr
SUMMARY:Réveillon de la Saint-Sylvestre
DESCRIPTION:Venez fêter le 31 décembre à la 2Deuche\n\nTraiteur Montrognon – Inscriptions A PARTIR du 20 novembre\nOrchestre Eclipse 80. Avec : Laurent DIEULEVEUT Batteur Chanteur\, Amandine DIEULEVEUT Chanteuse\, Maxime D’ERRICO Accordéon\, Clavier\, Chanteur et Richard ADDEO au Clavier.
URL:https://ville-lempdes.fr/event/reveillon-saint-sylvestre/
LOCATION:la 2Deuche\, rue Alexandre Vialatte\, Lempdes\, 63370
ATTACH;FMTTYPE=image/jpeg:https://ville-lempdes.fr/wp-content/uploads/2024/11/Orchestre.jpeg
END:VEVENT
BEGIN:VEVENT
DTSTART;TZID=Europe/Paris:20250119T150000
DTEND;TZID=Europe/Paris:20250119T180000
DTSTAMP:20260420T114545
CREATED:20250117T170732Z
LAST-MODIFIED:20250117T170732Z
UID:8812-1737298800-1737309600@ville-lempdes.fr
SUMMARY:Théâtre
DESCRIPTION:LempdeSolidaire propose un après-midi théâtre le dimanche 19 janvier à 15h salle des Fêtes avec la troupe « les Volpailloux » de Vertaizon\, qui jouera « Ciel mon Maire » une comédie de Vincent Durand.  \nCette pièce pétillante et rythmée aux personnages détonants raconte les mésaventures d’un maire\, qui\, souhaitant se faire réélire\, accepte un reportage sur sa vie privée pour un magazine féminin. Mais avec un entourage incontrôlable\, rien ne va se dérouler comme prévu !  \nParticipation libre \n  \n 
URL:https://ville-lempdes.fr/event/theatre-2/
LOCATION:salle des Fêtes\, place Charles de Gaulle\, Lempdes\, 63370\, France
ATTACH;FMTTYPE=image/jpeg:https://ville-lempdes.fr/wp-content/uploads/2025/01/AFFICHE-theatre-1.jpg
END:VEVENT
BEGIN:VEVENT
DTSTART;TZID=Europe/Paris:20250126T130000
DTEND;TZID=Europe/Paris:20250126T190000
DTSTAMP:20260420T114545
CREATED:20241206T075649Z
LAST-MODIFIED:20250117T170454Z
UID:8603-1737896400-1737918000@ville-lempdes.fr
SUMMARY:Loto
DESCRIPTION:Les étudiants de Marmilhat organisent un loto dimanche 26 janvier à partir de 13h à la salle des fêtes de Lempdes. \nDe nombreux lots sont à gagner. \nBuvette sur place \n  \n 
URL:https://ville-lempdes.fr/event/loto/
LOCATION:salle des Fêtes\, place Charles de Gaulle\, Lempdes\, 63370\, France
ATTACH;FMTTYPE=image/jpeg:https://ville-lempdes.fr/wp-content/uploads/2024/12/Affiche_loto_26_01_25-scaled.jpg
END:VEVENT
END:VCALENDAR