BEGIN:VCALENDAR
VERSION:2.0
PRODID:-//Mairie de Lempdes - ECPv6.15.20//NONSGML v1.0//EN
CALSCALE:GREGORIAN
METHOD:PUBLISH
X-WR-CALNAME:Mairie de Lempdes
X-ORIGINAL-URL:https://ville-lempdes.fr
X-WR-CALDESC:Évènements pour Mairie de Lempdes
REFRESH-INTERVAL;VALUE=DURATION:PT1H
X-Robots-Tag:noindex
X-PUBLISHED-TTL:PT1H
BEGIN:VTIMEZONE
TZID:Europe/Paris
BEGIN:DAYLIGHT
TZOFFSETFROM:+0100
TZOFFSETTO:+0200
TZNAME:CEST
DTSTART:20230326T010000
END:DAYLIGHT
BEGIN:STANDARD
TZOFFSETFROM:+0200
TZOFFSETTO:+0100
TZNAME:CET
DTSTART:20231029T010000
END:STANDARD
BEGIN:DAYLIGHT
TZOFFSETFROM:+0100
TZOFFSETTO:+0200
TZNAME:CEST
DTSTART:20240331T010000
END:DAYLIGHT
BEGIN:STANDARD
TZOFFSETFROM:+0200
TZOFFSETTO:+0100
TZNAME:CET
DTSTART:20241027T010000
END:STANDARD
BEGIN:DAYLIGHT
TZOFFSETFROM:+0100
TZOFFSETTO:+0200
TZNAME:CEST
DTSTART:20250330T010000
END:DAYLIGHT
BEGIN:STANDARD
TZOFFSETFROM:+0200
TZOFFSETTO:+0100
TZNAME:CET
DTSTART:20251026T010000
END:STANDARD
BEGIN:DAYLIGHT
TZOFFSETFROM:+0100
TZOFFSETTO:+0200
TZNAME:CEST
DTSTART:20260329T010000
END:DAYLIGHT
BEGIN:STANDARD
TZOFFSETFROM:+0200
TZOFFSETTO:+0100
TZNAME:CET
DTSTART:20261025T010000
END:STANDARD
END:VTIMEZONE
BEGIN:VEVENT
DTSTART;TZID=Europe/Paris:20241130T100000
DTEND;TZID=Europe/Paris:20241201T180000
DTSTAMP:20260420T131815
CREATED:20241116T081448Z
LAST-MODIFIED:20241116T081448Z
UID:8405-1732960800-1733076000@ville-lempdes.fr
SUMMARY:Marché de Noël
DESCRIPTION:30 NOVEMBRE et 1er DÉCEMBRE\n(Espace 2Deuche – 14 rue Alexandre Vialatte). Intérieur et extérieur Point GPS : 45° 46′ 14″ N – 3° 12′ 18″ E \nLe samedi de 10H à 18H30 et le dimanche de 10H à 18H. \n\nPrès de 70 exposants\nStand photos dans le hall\, Père Noël\, Saint Nicolas et Père Fouettard\nBalades à dos d’ânes pour les enfants gratuites les deux jours.\nEchassier et jongleur (uniquement le dimanche).\n\nPrésence des comités de jumelage (Mangualde pour le Portugal et Hallstadt pour l’Allemagne).
URL:https://ville-lempdes.fr/event/marche-de-noel/
LOCATION:la 2Deuche\, rue Alexandre Vialatte\, Lempdes\, 63370
ATTACH;FMTTYPE=image/png:https://ville-lempdes.fr/wp-content/uploads/2024/11/Affiche-MNoel.png
END:VEVENT
BEGIN:VEVENT
DTSTART;TZID=Europe/Paris:20241231T190000
DTEND;TZID=Europe/Paris:20250101T010000
DTSTAMP:20260420T131815
CREATED:20241116T081855Z
LAST-MODIFIED:20241116T082004Z
UID:8408-1735671600-1735693200@ville-lempdes.fr
SUMMARY:Réveillon de la Saint-Sylvestre
DESCRIPTION:Venez fêter le 31 décembre à la 2Deuche\n\nTraiteur Montrognon – Inscriptions A PARTIR du 20 novembre\nOrchestre Eclipse 80. Avec : Laurent DIEULEVEUT Batteur Chanteur\, Amandine DIEULEVEUT Chanteuse\, Maxime D’ERRICO Accordéon\, Clavier\, Chanteur et Richard ADDEO au Clavier.
URL:https://ville-lempdes.fr/event/reveillon-saint-sylvestre/
LOCATION:la 2Deuche\, rue Alexandre Vialatte\, Lempdes\, 63370
ATTACH;FMTTYPE=image/jpeg:https://ville-lempdes.fr/wp-content/uploads/2024/11/Orchestre.jpeg
END:VEVENT
END:VCALENDAR