BEGIN:VCALENDAR
VERSION:2.0
PRODID:-//Mairie de Lempdes - ECPv6.15.20//NONSGML v1.0//EN
CALSCALE:GREGORIAN
METHOD:PUBLISH
X-ORIGINAL-URL:https://ville-lempdes.fr
X-WR-CALDESC:Évènements pour Mairie de Lempdes
REFRESH-INTERVAL;VALUE=DURATION:PT1H
X-Robots-Tag:noindex
X-PUBLISHED-TTL:PT1H
BEGIN:VTIMEZONE
TZID:Europe/Paris
BEGIN:DAYLIGHT
TZOFFSETFROM:+0100
TZOFFSETTO:+0200
TZNAME:CEST
DTSTART:20230326T010000
END:DAYLIGHT
BEGIN:STANDARD
TZOFFSETFROM:+0200
TZOFFSETTO:+0100
TZNAME:CET
DTSTART:20231029T010000
END:STANDARD
BEGIN:DAYLIGHT
TZOFFSETFROM:+0100
TZOFFSETTO:+0200
TZNAME:CEST
DTSTART:20240331T010000
END:DAYLIGHT
BEGIN:STANDARD
TZOFFSETFROM:+0200
TZOFFSETTO:+0100
TZNAME:CET
DTSTART:20241027T010000
END:STANDARD
BEGIN:DAYLIGHT
TZOFFSETFROM:+0100
TZOFFSETTO:+0200
TZNAME:CEST
DTSTART:20250330T010000
END:DAYLIGHT
BEGIN:STANDARD
TZOFFSETFROM:+0200
TZOFFSETTO:+0100
TZNAME:CET
DTSTART:20251026T010000
END:STANDARD
END:VTIMEZONE
BEGIN:VEVENT
DTSTART;TZID=Europe/Paris:20240914T100000
DTEND;TZID=Europe/Paris:20240914T180000
DTSTAMP:20260420T180230
CREATED:20240724T131402Z
LAST-MODIFIED:20240912T133518Z
UID:7964-1726308000-1726336800@ville-lempdes.fr
SUMMARY:Forum des associations
DESCRIPTION:Le Forum des associations fait peau neuve en 2024 : nouvelle formule\, nouveau lieu. \nL’édition 2024 du Forum des associations se déroulera au complexe sportif\, le samedi 14 septembre\, de 10h à 18h. \nCette nouvelle formule sera placée sous le signe de la convivialité et du partage. Retrouvez de nombreuses associations lempdaises pour des expositions\, des projections\, des ateliers d’initiation et des démonstrations qui rythmeront la journée. Si la météo le permet\, la manifestation se déroulera également en extérieur pour plus de convivialité. Buvette et en-cas seront proposés par le Comité des Fêtes. Certains services de la mairie tiendront également des stands. \nPour plus d’informations\, merci de contacter Géraldine Bacquart chargée de l’organisation de cette manifestation au 06 60 81 79 58 ou vieassociative@mairie-lempdes.fr \nCette édition sera\, nous l’espérons\, ultra festive ! Parlez-en  autour de vous ! \nConsultez le programme de la journée \n \nListe des associations présentes : \nASSOCIATIONS SPORTIVES\n\nAIA Lempdes Rugby\nAccess Padel\nAr Club Land\nASPTT Clermont\nAthletic Club de Lempdes\nBasket Club de Lempdes\nCyclo Club Lempdais\nGym Féminine\nKung Fu Wushu Hu Ying Dao Lempdes\nLempdes athlétisme & loisir\nLempdes BMX Auvergne\nLempdes Gym\nLempdes Savate perf\nLempdes Sport Football\nLempdes Sport natation\nLempdes Yoseikan Budo\nPétanque de Lempdes\nTennis club de Lempdes\nZumba step gym tonic\n\nASSOCIATIONS ARTISTIQUES\, CULTURELLES ET ENVIRONNEMENTALES\n\nAssociation Artistique Lempdaise\nAssociation des membres de l’O.H.L\nA.F.U.S\nALPN Brigades Vertes\nAnis Etoilé\nChorale EN.VO.L\nClub tarot\nCroix Blanche des Volcans\nJardiniers des Pays d’Auvergne – Club de Lempdes\nLempdes accordéon\nLempdes Diverti Danses\nLempdes Minéraux\nLes Amandiers\nLes Doigts de Fée\nLou Belladaires\nObjectif Images 63 Lempdes\nParoisse Saint-Paul du Val d’Allier\nR.E.P.L.I.C\nSolidarité Paysans\n\nFOYER DES JEUNES ET D’ÉDUCATION POPULAIRE F.J.E.P\n\nBureau\nArts plastiques\nAquagym\nBaby gym\nBadminton\nDanse (jazz\, danse orientale/tribal\, urban et Girly)\nÉchecs\nFoot en salle\nGym Fitness/pilates\nJudo\nMarche nordique/Retraite tonic et Gym douce\nMusculation\nOenologie\nQi Gong / Taï chi\nRelaxation\nRemue méninges\nSophrologie\nTennis de table\nYoga\nZumba\n\nLES SERVICES DE LA MAIRIE\n\nPoint d’infos\nAtelier Théâtre\nÉcole de musique\nEspace Jeunes\n\n  \n\n  \n  \n 
URL:https://ville-lempdes.fr/event/forum-des-associations/
LOCATION:complexe sportif\, rue du stade\, Lempdes\, 63370\, France
ATTACH;FMTTYPE=image/jpeg:https://ville-lempdes.fr/wp-content/uploads/2024/07/Affiche_forum_associations_2024_site-scaled.jpg
END:VEVENT
BEGIN:VEVENT
DTSTART;TZID=Europe/Paris:20240921T100000
DTEND;TZID=Europe/Paris:20240921T120000
DTSTAMP:20260420T180230
CREATED:20240917T122202Z
LAST-MODIFIED:20240918T121645Z
UID:8150-1726912800-1726920000@ville-lempdes.fr
SUMMARY:Atelier couture : tote-bag
DESCRIPTION:[ Dans le cadre des semaines européennes du développement durable ]\n \nSamedi 21 septembre de 14h à 17h : Atelier  couture Tote-bag (dès 8 ans)\n \norganisé par la médiathèque Jacques Prévert\, avec l’association Green Couture : RDV dans les locaux de Green couture dans le centre ville de Lempdes de 14h à 17h. Atelier ouvert aux débutants\, avec notions de couture de base ou confirmés. Dès 8 ans. Sur inscription au 04 43 76 27 62. Limité à 8 participants. \n\nObjectif : consommation et production responsables (établir des modes de consommation et de production durables)\n\n  \nConsultez le programme des manifestations gratuites organisées du 21 au 29 septembre \n \n  \n 
URL:https://ville-lempdes.fr/event/semaine-du-developpement-durable/
LOCATION:parc de la mairie\, 1 rue Saint-Verny\, Lempdes\, 63370
ATTACH;FMTTYPE=image/png:https://ville-lempdes.fr/wp-content/uploads/2024/09/Affiche_site.png
END:VEVENT
BEGIN:VEVENT
DTSTART;TZID=Europe/Paris:20240921T100000
DTEND;TZID=Europe/Paris:20240921T120000
DTSTAMP:20260420T180230
CREATED:20240917T125212Z
LAST-MODIFIED:20240917T125212Z
UID:8162-1726912800-1726920000@ville-lempdes.fr
SUMMARY:Sport et bien-être
DESCRIPTION:[ Dans le cadre des semaines européennes du développement durable ]\n \nSamedi 21 septembre ateliers Taï-chi et QI Gong proposés par le F.J.E.P (à partir de 16 ans)\n \nRDV dans le parc de la mairie pour des ateliers gratuits : \n– 10h – 11h : Taï-Chi \n– 11h – 12h : Qi Gong\n \nN’oubliez-pas de vous munir d’une bouteille d’eau et de prévoir une tenue adaptée. Activité reportée au complexe en cas de mauvais temps.\n \n\nObjectif : Bonne santé bien-être (donner aux individus les moyens de vivre une vie saine et promouvoir le bien-être à tous les âges)\n\n  \nConsultez le programme des manifestations gratuites organisées du 21 au 29 septembre \n \n  \n 
URL:https://ville-lempdes.fr/event/sport-et-bien-etre-2/
LOCATION:parc de la mairie\, 1 rue Saint-Verny\, Lempdes\, 63370
ATTACH;FMTTYPE=image/png:https://ville-lempdes.fr/wp-content/uploads/2024/09/Affiche_site.png
END:VEVENT
BEGIN:VEVENT
DTSTART;TZID=Europe/Paris:20240921T100000
DTEND;TZID=Europe/Paris:20240921T120000
DTSTAMP:20260420T180230
CREATED:20240917T130129Z
LAST-MODIFIED:20240918T121621Z
UID:8165-1726912800-1726920000@ville-lempdes.fr
SUMMARY:Découverte des techniques zéro phyto des terrains de sport
DESCRIPTION:[ Dans le cadre des semaines européennes du développement durable ]\n \nSamedi 21 septembre à 10h et 11h15 : Découverte des techniques zéro phyto des terrains de sport \nRDV à l’accueil du complexe sportif pour deux visites : départs 10h et 11h15. Venez découvrir les pratiques d’entretien des terrains de sport utilisées pour se passer de l’usage des produits phytosanitaires : programme d’interventions\, matériel utilisé… ainsi que la démarche à venir pour réduire la consommation d’eau pour leur arrosage. \n\nObjectif : Ville et communautés durables (faire en sorte que les villes et les établissements humains soient ouverts à tous\, sûrs\, résilients et durables)\n\nConsultez le programme des manifestations gratuites organisées du 21 au 29 septembre \n \n  \n 
URL:https://ville-lempdes.fr/event/decouverte-techniques-zero-phyto/
LOCATION:complexe sportif\, rue du stade\, Lempdes\, 63370\, France
ATTACH;FMTTYPE=image/png:https://ville-lempdes.fr/wp-content/uploads/2024/09/Affiche_site.png
END:VEVENT
BEGIN:VEVENT
DTSTART;TZID=Europe/Paris:20240921T140000
DTEND;TZID=Europe/Paris:20240921T170000
DTSTAMP:20260420T180230
CREATED:20240917T130752Z
LAST-MODIFIED:20240918T121557Z
UID:8168-1726927200-1726938000@ville-lempdes.fr
SUMMARY:Jeu de piste familial
DESCRIPTION:[ Dans le cadre des semaines européennes du développement durable ]\n \nSamedi 21 septembre entre 14h et 17h : jeu de piste familial dès 8 ans\, accompagné des parents\n \nRDV sur le parvis de la Maison des Associations pour le départ d’un jeu de piste réalisé par les jeunes d’Anim’à jeunes\, Anim’ados. Explorez la ville\, répondez aux questions et apprenez-en plus sur l’engagement de la municipalité dans la transition énergétique et écologique. Départs entre 14h et 15h30\, derniers retours à 17h. Dès 8 ans\, accompagnés des parents. Un lot à tous les participants. \n\nObjectifs : Énergie propre et d’un coût abordable (garantir l’accès de tous à des services énergétiques fiables\, durables\, modernes\, à un coût abordable) ET consommation et production responsables(établir des modes de consommation et de production durables)\n\nConsultez le programme des manifestations gratuites organisées du 21 au 29 septembre \n \n  \n 
URL:https://ville-lempdes.fr/event/jeu-de-piste-familial/
LOCATION:Maison des associations
ATTACH;FMTTYPE=image/png:https://ville-lempdes.fr/wp-content/uploads/2024/09/Affiche_site.png
END:VEVENT
BEGIN:VEVENT
DTSTART;TZID=Europe/Paris:20240922T170000
DTEND;TZID=Europe/Paris:20240922T190000
DTSTAMP:20260420T180230
CREATED:20240920T140849Z
LAST-MODIFIED:20240920T141235Z
UID:8194-1727024400-1727031600@ville-lempdes.fr
SUMMARY:Sensibilisation au handisport
DESCRIPTION:[ Dans le cadre des semaines européennes du développement durable ]\n \nDimanche 22 septembre dès 17h : Sensibilisation au handisport\, au complexe sportif\n \n\nSensibilisation au Rugby fauteuil : RDV au complexe sportif à 17h pour découvrir le rugby fauteuil en participant à un match\, suivi d’ateliers d’initiation à la Boccia (https://handisport63.jimdofree.com/nos-sports/sports-et-clubs/boccia/)\, la Sarbacane (https://handisport63.jimdofree.com/nos-sports/sports-et-clubs/sarbacane/)et le rugby fauteuil (https://handisport63.jimdofree.com/nos-sports/sports-et-clubs/rugby-fauteuil/).\nBuvette sur place\, au profit de l’association des personnes de petite taille.\n\n\nObjectif : inégalités réduites (réduire les inégalités entre les pays et en leur sein)\n\n\n\nConsultez le programme des manifestations gratuites organisées du 21 au 29 septembre \n \n  \n 
URL:https://ville-lempdes.fr/event/sensibilisation-au-handisport/
LOCATION:complexe sportif\, rue du stade\, Lempdes\, 63370\, France
ATTACH;FMTTYPE=image/png:https://ville-lempdes.fr/wp-content/uploads/2024/09/Affiche_site.png
END:VEVENT
BEGIN:VEVENT
DTSTART;TZID=Europe/Paris:20240923T180000
DTEND;TZID=Europe/Paris:20240923T200000
DTSTAMP:20260420T180230
CREATED:20240917T132849Z
LAST-MODIFIED:20240918T122818Z
UID:8174-1727114400-1727121600@ville-lempdes.fr
SUMMARY:Fresque de la rénovation
DESCRIPTION:[ Dans le cadre des semaines européennes du développement durable ]\n \nLundi 23 septembre à 18h : Fresque de la rénovation proposée par l’Aduhme\n \nRDV à 18h au club house de la Maison des Sports pour réaliser cette fresque. Un atelier ludique pour comprendre les étapes\, enjeux et bénéfices de la rénovation énergétique et recevoir de nombreux conseils sur la rénovation énergétique de votre logement. Deux ateliers de 6 personnes sont proposés. Durée 2h. Atelier sur inscription au 06 60 81 79 58. \n\nObjectifs : Bonne santé bien-être (donner aux individus les moyens de vivre une vie saine et promouvoir le bien-être à tous les âges) ET Mesures relatives à la lutte contre les changements climatiques(prendre d’urgence des mesures pour lutter contre les changements climatiques et leurs répercussions)\n\nConsultez le programme des manifestations gratuites organisées du 21 au 29 septembre \n \n  \n 
URL:https://ville-lempdes.fr/event/fresque-de-la-renovation/
LOCATION:club house Maison des Sports
ATTACH;FMTTYPE=image/png:https://ville-lempdes.fr/wp-content/uploads/2024/09/Affiche_site.png
END:VEVENT
BEGIN:VEVENT
DTSTART;TZID=Europe/Paris:20240924T200000
DTEND;TZID=Europe/Paris:20240924T220000
DTSTAMP:20260420T180230
CREATED:20240918T121210Z
LAST-MODIFIED:20240918T121210Z
UID:8180-1727208000-1727215200@ville-lempdes.fr
SUMMARY:Conférence sur les TAAF
DESCRIPTION:[ Dans le cadre des semaines européennes du développement durable ]\n \nMardi 24 septembre à 20h : Conférence sur les TAAF Terres Australes et Antarctiques françaises.  \nRDV à 20h à l’Agora. Les Terres australes et antarctiques françaises constituent une collectivité particulière située en outre-mer. Ce territoire comprend actuellement  très territoires très différents : l’archipel Crozet\, les îles Kerguelen\, les îles Saint-Paul et Amsterdam\, les îles Éparses de l’océan Indien et la Terre Adélie. Leur caractéristique première réside dans leur isolement extrême et l’éloignement des zones habitées. Ces territoires sont au cœur des enjeux de la planète. Venez les découvrir ! Conférencier William Salabert. \n\nObjectifs : Vie aquatique (conserver et exploiter de manière durables les océans\, les mers et les ressources marines aux fins du développement durable ET Vie terrestre (préserver et restaurer les écosystèmes terrestres)\n\nConsultez le programme des manifestations gratuites organisées du 21 au 29 septembre \n \n  \n 
URL:https://ville-lempdes.fr/event/conference-sur-les-taaf/
LOCATION:agora
ATTACH;FMTTYPE=image/png:https://ville-lempdes.fr/wp-content/uploads/2024/09/Affiche_site.png
END:VEVENT
BEGIN:VEVENT
DTSTART;TZID=Europe/Paris:20240925T133000
DTEND;TZID=Europe/Paris:20240925T183000
DTSTAMP:20260420T180230
CREATED:20240918T121934Z
LAST-MODIFIED:20240918T121934Z
UID:8187-1727271000-1727289000@ville-lempdes.fr
SUMMARY:Tournoi de jeux vidéo
DESCRIPTION:[ Dans le cadre des semaines européennes du développement durable ]\n \nMercredi 25 septembre à 13h30 : Tournoi de jeux vidéo et débat sur la question de la relation des ados aux écrans\, pour les 11 – 17 ans et leurs parents \n\nRDV à l’espace jeunes (COSEC) dès 13h30. Les jeux vidéos font désormais partie de notre quotidien au même titre que d’autres activités sportives et culturelles. Que peut-on en attendre ? Quel lien avec l’écologie ?\n13h45-14h45 : tournoi de jeux vidéo\n14h45-15h45 : échange/débat/quizz** en présence de William Brou\,\nd’Histoire en jeux.\n15h45-16h00 : temps convivial\nLe tournoi peut se poursuivre par la suite en accueil libre jusqu’à 18h30.\n** l’industrie du jeu vidéo\, le jeu vidéo en tant que média\, quizz\, etc. \n\nObjectif : Éducation de qualité (veiller à ce que tous puissent suivre une éducation de qualité dans des conditions d’équité et promouvoir les possibilités d’apprentissage tout au long de la vie)\n\n\n\nConsultez le programme des manifestations gratuites organisées du 21 au 29 septembre \n \n  \n 
URL:https://ville-lempdes.fr/event/tournoi-jeux-video/
LOCATION:espace jeunes
ATTACH;FMTTYPE=image/png:https://ville-lempdes.fr/wp-content/uploads/2024/09/Affiche_site.png
END:VEVENT
BEGIN:VEVENT
DTSTART;TZID=Europe/Paris:20240926T170000
DTEND;TZID=Europe/Paris:20240926T210000
DTSTAMP:20260420T180230
CREATED:20240918T123030Z
LAST-MODIFIED:20240918T124348Z
UID:8191-1727370000-1727384400@ville-lempdes.fr
SUMMARY:Afterwork solidaire
DESCRIPTION:[ Dans le cadre des semaines européennes du développement durable ]\n \nJeudi 26 septembre dès 17h : Afterwork solidaire ! \nRDV dès 17h dans le parc de la mairie pour partager un moment festif et musical et rencontrer vos associations lempdaises solidaires ! (Don du sang\, LempdeSolidaire\, APE France-Bénin\, les P’tits Bougnats…) Jusqu’à 21h. Venez profiter des moments musicaux réalisés bénévolement par les chanteurs et musiciens : de 17h30 à 18h30 : A demi-mot / de 18h45 à 19h45 : Kolibri / de 20h15 à 21h : Chorale EN.VO.L \n\n\n\nObjectifs : Pas de pauvreté (éliminer la pauvreté sous toutes ses formes et partout dans le monde) ET Inégalités réduites (réduire les inégalités entre les pays et en leur sein)\n\n\n\nConsultez le programme des manifestations gratuites organisées du 21 au 29 septembre \n \n  \n 
URL:https://ville-lempdes.fr/event/afterwork-solidaire/
LOCATION:parc de la mairie\, 1 rue Saint-Verny\, Lempdes\, 63370
ATTACH;FMTTYPE=image/png:https://ville-lempdes.fr/wp-content/uploads/2024/09/Affiche_site.png
END:VEVENT
BEGIN:VEVENT
DTSTART;TZID=Europe/Paris:20240927T140000
DTEND;TZID=Europe/Paris:20240927T170000
DTSTAMP:20260420T180230
CREATED:20240927T082641Z
LAST-MODIFIED:20240927T083155Z
UID:8215-1727445600-1727456400@ville-lempdes.fr
SUMMARY:Visite de l'entreprise Audebert
DESCRIPTION:[ Dans le cadre des semaines européennes du développement durable ]\n \nVendredi 27 septembre à 14h et 15h30 : Visite de l’entreprise Audebert (1h30″) \nRDV aux horaires de début de visite\, sur place (15 rue Jean Bapt) pour cette visite d’entreprise. Découvrez un savoir-faire engagé et dégustez ! \n\n\n\nObjectifs : Consommation et production responsable (établir des modes de consommation & de production durables)\n\n\n\nConsultez le programme des manifestations gratuites organisées du 21 au 29 septembre \n \n  \n 
URL:https://ville-lempdes.fr/event/visite-de-lentreprise-audebert/
LOCATION:15 rue Jean Bapt
ATTACH;FMTTYPE=image/png:https://ville-lempdes.fr/wp-content/uploads/2024/09/Affiche_site.png
END:VEVENT
BEGIN:VEVENT
DTSTART;TZID=Europe/Paris:20240927T150000
DTEND;TZID=Europe/Paris:20240927T170000
DTSTAMP:20260420T180230
CREATED:20240927T083802Z
LAST-MODIFIED:20240927T083802Z
UID:8219-1727449200-1727456400@ville-lempdes.fr
SUMMARY:Visite des serres
DESCRIPTION:[ Dans le cadre des semaines européennes du développement durable ]\n \nVendredi 27 septembre de 15h à 17h : Découvrez l’engagement du Pôle Environnement au quotidien ! \nRDV aux serres du centre technique municipal (rue de Milan)\, pour une visite commentée des lieux\, et découvrez les techniques utilisées et le matériel \n\n\n\nObjectifs : Ville et communautés durables (faire en sorte que les villes et les établissements humains soient ouverts à tous\, sûrs\, résilients et durables)\n\n\n\nConsultez le programme des manifestations gratuites organisées du 21 au 29 septembre \n \n  \n 
URL:https://ville-lempdes.fr/event/visite-des-serres/
LOCATION:centre technique municipal
ATTACH;FMTTYPE=image/png:https://ville-lempdes.fr/wp-content/uploads/2024/09/Affiche_site.png
END:VEVENT
BEGIN:VEVENT
DTSTART;TZID=Europe/Paris:20240927T200000
DTEND;TZID=Europe/Paris:20240927T220000
DTSTAMP:20260420T180230
CREATED:20240927T085839Z
LAST-MODIFIED:20240927T085839Z
UID:8222-1727467200-1727474400@ville-lempdes.fr
SUMMARY:Projection - débat "Les Incorrectes"
DESCRIPTION:[ Dans le cadre des semaines européennes du développement durable ]\n \nVendredi 27 septembre à 20h : Projection-débat gratuite autour du film « Les Incorrectes »\n \nRDV à 20h à la 2Deuche pour découvrir ce film qui retrace l’histoire d’Alice Milliat et du sport au féminin. \nAliceMilliat fonde en 1921 la Fédération sportive féminine internationale. Elle fait de la participation des femmes aux Jeux Olympiques son plus grand combat\n \n\nObjectif : Egalité entre les sexes (réaliser l’égalité des sexes et autonomiser toutes les femmes et les filles)\n\nConsultez le programme des manifestations gratuites organisées du 21 au 29 septembre \n \n  \n 
URL:https://ville-lempdes.fr/event/projection-debat-les-incorrectes/
LOCATION:la 2Deuche\, rue Alexandre Vialatte\, Lempdes\, 63370
ATTACH;FMTTYPE=image/png:https://ville-lempdes.fr/wp-content/uploads/2024/09/Affiche_site.png
END:VEVENT
BEGIN:VEVENT
DTSTART;TZID=Europe/Paris:20240928T100000
DTEND;TZID=Europe/Paris:20240928T120000
DTSTAMP:20260420T180230
CREATED:20240917T124603Z
LAST-MODIFIED:20240917T125236Z
UID:8158-1727517600-1727524800@ville-lempdes.fr
SUMMARY:Sport et bien-être
DESCRIPTION:[ Dans le cadre des semaines européennes du développement durable ]\n \nSamedi 28 septembre ateliers Yoseikan Budo (de 3 à 14 ans)\n \nRDV dans le parc de la mairie pour des ateliers gratuits de Yoseikan budo proposés par Lempdes Yoseikan Budo : \n– 9h30 – 10h30 : pour les 3 à 5 ans \n– 10h30 – 11h30 : pour les 6 à 9 ans \n– 10h30 – 12h : pour les 10 à 14 ans \nN’oubliez-pas de vous munir d’une bouteille d’eau et de prévoir une tenue adaptée. Activité reportée au complexe en cas de mauvais temps. Les enfants sont sous la responsabilité des parents.\n \n\nObjectif : Bonne santé bien-être (donner aux individus les moyens de vivre une vie saine et promouvoir le bien-être à tous les âges)\n\n  \nConsultez le programme des manifestations gratuites organisées du 21 au 29 septembre \n \n  \n 
URL:https://ville-lempdes.fr/event/sport-et-bien-etre/
LOCATION:parc de la mairie\, 1 rue Saint-Verny\, Lempdes\, 63370
ATTACH;FMTTYPE=image/png:https://ville-lempdes.fr/wp-content/uploads/2024/09/Affiche_site.png
END:VEVENT
BEGIN:VEVENT
DTSTART;TZID=Europe/Paris:20240928T160000
DTEND;TZID=Europe/Paris:20240928T180000
DTSTAMP:20260420T180230
CREATED:20240927T090652Z
LAST-MODIFIED:20240927T091051Z
UID:8224-1727539200-1727546400@ville-lempdes.fr
SUMMARY:Rando photo - initiation à la botanique
DESCRIPTION:[ Dans le cadre des semaines européennes du développement durable ]\n \nSamedi 28 septembre à 16h : Rando-photo/initiation botanique avec Objectif image 63\n \nRDV à 16h place Charles-de-Gaulle avec votre appareil photo ou téléphone.Découvrez la flore locale à travers une randonnée photo !\n \n\nObjectif : Vie terrestre (préserver et restaurer les écosystèmes terrestres)\n\nConsultez le programme des manifestations gratuites organisées du 21 au 29 septembre \n \n  \n 
URL:https://ville-lempdes.fr/event/rando-photo-initiation-botanique/
LOCATION:place Charles-de-Gaulle\, Lempdes\, 63370
ATTACH;FMTTYPE=image/png:https://ville-lempdes.fr/wp-content/uploads/2024/09/Affiche_site.png
END:VEVENT
BEGIN:VEVENT
DTSTART;TZID=Europe/Paris:20240928T200000
DTEND;TZID=Europe/Paris:20240928T213000
DTSTAMP:20260420T180230
CREATED:20240927T092424Z
LAST-MODIFIED:20240927T092732Z
UID:8226-1727553600-1727559000@ville-lempdes.fr
SUMMARY:Veillée contée pour petits et grands enfants
DESCRIPTION:[ Dans le cadre des semaines européennes du développement durable ]\n \nSamedi 28 septembre à 20h : Veillée contée\, pour petits et grands enfants !\n \nRDV à 20h dans la parc de la mairie. N’oubliez-pas de vous munir de quoi vous asseoir. Animation possiblement déplacée à l’Agora en cas de mauvais temps\n \n\nObjectif : Education de qualité (veiller à ce que tous puissent suivre une éducation de qualité\, dans des conditions d’équité et promouvoir les possibilités d’apprentissage tout au long de la vie)\n\nConsultez le programme des manifestations gratuites organisées du 21 au 29 septembre \n \n  \n 
URL:https://ville-lempdes.fr/event/veillee-contee/
LOCATION:parc de la mairie\, 1 rue Saint-Verny\, Lempdes\, 63370
ATTACH;FMTTYPE=image/png:https://ville-lempdes.fr/wp-content/uploads/2024/09/Affiche_site.png
END:VEVENT
BEGIN:VEVENT
DTSTART;TZID=Europe/Paris:20240929T100000
DTEND;TZID=Europe/Paris:20240929T120000
DTSTAMP:20260420T180230
CREATED:20240927T095037Z
LAST-MODIFIED:20240927T111556Z
UID:8229-1727604000-1727611200@ville-lempdes.fr
SUMMARY:Matinée des mobilités
DESCRIPTION:[ Dans le cadre des semaines européennes du développement durable ]\n \nDimanche 29 septembre à 10h : participez à la matinée des mobilités ! \nProfitez des activités offertes pour changer votre manière de bouger soit au quotidien\, soit à travers la découverte d’activités sportives et découvrez les aménagements proposés pour vous faciliter les déplacements. \nRDV à 10h dans la parc de la mairie pour l’inauguration du box à vélo\, puis direction place Charles-de-Gaulle pour participer aux animations : \n\nBalade à vélo en famille avec Vélocité 63 : envie d’une balade vélo en famille dans un cadre sécurisé ou vous hésitez encore à utiliser le vélo dans vos déplacement quotidiens ? Découvrez le circuit proposé et encadré par l’association Vélocité 63 ! Entre Lempdes et Pont-du-Château\, sur un circuit de 13km\, apprenez-en plus sur les bons réflexes du cycliste urbain !\nPrévoir : gilets de sécurité et casques.\n\nAtelier d’initiation à la marche nordique proposé par le FJEP Marche Nordique\nRandonnée dans les collines proposée par Rando Lempdes\nRencontre avec le bus Inspire : L’équipe d’Inspire vous attend avec ses casques de réalité virtuelle donnant à voir de façon totalement immersive les tracés de demain\, ainsi que la maquette 3D des futures lignes B et C. Manipulez la carte interactive du futur réseau et posez toutes vos question sur ce futur réseau et les tracés.\n\n\nObjectifs : Bonne santé et bien-être (donner aux individus les moyens de vivre une vie saine et promouvoir le bien-être à tous les âges) ET mesures relatives à la lutte contre les changements climatiques (prendre d’urgence des mesures pour lutter contre les changements climatiques et leurs répercussions) \n\nConsultez le programme des manifestations gratuites organisées du 21 au 29 septembre \n \n  \n 
URL:https://ville-lempdes.fr/event/matinee-des-mobilites/
LOCATION:parc de la mairie\, 1 rue Saint-Verny\, Lempdes\, 63370
ATTACH;FMTTYPE=image/png:https://ville-lempdes.fr/wp-content/uploads/2024/09/Affiche_site.png
END:VEVENT
END:VCALENDAR