BEGIN:VCALENDAR
VERSION:2.0
PRODID:-//Mairie de Lempdes - ECPv6.15.20//NONSGML v1.0//EN
CALSCALE:GREGORIAN
METHOD:PUBLISH
X-WR-CALNAME:Mairie de Lempdes
X-ORIGINAL-URL:https://ville-lempdes.fr
X-WR-CALDESC:Évènements pour Mairie de Lempdes
REFRESH-INTERVAL;VALUE=DURATION:PT1H
X-Robots-Tag:noindex
X-PUBLISHED-TTL:PT1H
BEGIN:VTIMEZONE
TZID:Europe/Paris
BEGIN:DAYLIGHT
TZOFFSETFROM:+0100
TZOFFSETTO:+0200
TZNAME:CEST
DTSTART:20230326T010000
END:DAYLIGHT
BEGIN:STANDARD
TZOFFSETFROM:+0200
TZOFFSETTO:+0100
TZNAME:CET
DTSTART:20231029T010000
END:STANDARD
BEGIN:DAYLIGHT
TZOFFSETFROM:+0100
TZOFFSETTO:+0200
TZNAME:CEST
DTSTART:20240331T010000
END:DAYLIGHT
BEGIN:STANDARD
TZOFFSETFROM:+0200
TZOFFSETTO:+0100
TZNAME:CET
DTSTART:20241027T010000
END:STANDARD
BEGIN:DAYLIGHT
TZOFFSETFROM:+0100
TZOFFSETTO:+0200
TZNAME:CEST
DTSTART:20250330T010000
END:DAYLIGHT
BEGIN:STANDARD
TZOFFSETFROM:+0200
TZOFFSETTO:+0100
TZNAME:CET
DTSTART:20251026T010000
END:STANDARD
END:VTIMEZONE
BEGIN:VEVENT
DTSTART;TZID=Europe/Paris:20240601T170000
DTEND;TZID=Europe/Paris:20240601T200000
DTSTAMP:20260420T224850
CREATED:20240524T102213Z
LAST-MODIFIED:20240524T102213Z
UID:6000-1717261200-1717272000@ville-lempdes.fr
SUMMARY:Concert de l'Orchestre d'Harmonie de Lempdes
DESCRIPTION:[ Concert de l’Orchestre d’Harmonie de Lempdes ] \nL’Orchestre d’Harmonie de Lempdes se produira le samedi 1er juin\, à 17h\, à la 2Deuche. En première partie\, musique actuelles avec ZIK ZAK \nOuverture des portes à 16h. \nSur place : buvette et stand de crêpes et de gaufres \nRéservation conseillée à : harmonie.lempdes@gmail.com \nEn savoir + sur l’OHL \n  \n 
URL:https://ville-lempdes.fr/event/concert-de-lorchestre-dharmonie-de-lempdes/
LOCATION:la 2Deuche\, rue Alexandre Vialatte\, Lempdes\, 63370
ATTACH;FMTTYPE=image/gif:https://ville-lempdes.fr/wp-content/uploads/2024/05/affiche-OHL2024-v1-3.gif
ORGANIZER;CN="OHL":MAILTO:harmonie.lempdes@gmail.com
END:VEVENT
BEGIN:VEVENT
DTSTART;TZID=Europe/Paris:20240615T150000
DTEND;TZID=Europe/Paris:20240616T170000
DTSTAMP:20260420T224850
CREATED:20240524T115924Z
LAST-MODIFIED:20240524T121049Z
UID:6004-1718463600-1718557200@ville-lempdes.fr
SUMMARY:La Fête de Lempdes organisée par le Comité des Fêtes de Lempdes
DESCRIPTION:Le Comité des Fêtes de Lempdes organise la fête de Lempdes les 15 et 16 juin. Fête foraine. \n\nLe samedi 15 vide grenier en semi nocturne (15H00 à 21H30)\nPrix forfaitaire de 8\,50 € les 4 mètres linéaires – ; PAIEMENT A LA RÉSERVATION\nInscription obligatoire par:\n– Téléphone (Du lundi au vendredi entre 17h30 et 21h) au 0675877482\n– Via le formulaire dispo ici: https://forms.gle/wCsf3S9PH1ugXHy79\n– Par mail: brocantelempdes@gmail.com\nPour les règlements (chèque ou espèces)\, permanence tous les mercredis entre 18h et 20h au comité des fêtes\, 1er étage de l’école de musique place Charles de Gaulle à Lempdes\nInscription obligatoire A PARTIR du 6 mai jusqu’au 12 juin inclus. (Tout appel avant cette date ne sera pas pris en compte).\nPar téléphone du lundi au vendredi de 17h30.à 21h00 au 06 75 87 74 82\nOu par mail à : brocantelempdes@gmail.com\n\nPas de stationnement de véhicules derrière ou à côté des stands \n\nLe dimanche 16: 11H00 salle des Fêtes concert avec l’Orchestre d’Harmonie de Lempdes. Un apéritif offert par nos conseillers départementaux (Valérie Passarieu et Joël Derré) et le comité des fêtes\, sera servi. A cette occasion une collecte de fonds sera effectuée au profit de l’association des personnes de petite taille (APPT)\n\n\n  \n  \n 
URL:https://ville-lempdes.fr/event/fete-de-lempdes/
LOCATION:Centre ville
ATTACH;FMTTYPE=image/jpeg:https://ville-lempdes.fr/wp-content/uploads/2024/05/AFFICHE-2.jpg
END:VEVENT
END:VCALENDAR