BEGIN:VCALENDAR
VERSION:2.0
PRODID:-//Mairie de Lempdes - ECPv6.15.20//NONSGML v1.0//EN
CALSCALE:GREGORIAN
METHOD:PUBLISH
X-WR-CALNAME:Mairie de Lempdes
X-ORIGINAL-URL:https://ville-lempdes.fr
X-WR-CALDESC:Évènements pour Mairie de Lempdes
REFRESH-INTERVAL;VALUE=DURATION:PT1H
X-Robots-Tag:noindex
X-PUBLISHED-TTL:PT1H
BEGIN:VTIMEZONE
TZID:Europe/Paris
BEGIN:DAYLIGHT
TZOFFSETFROM:+0100
TZOFFSETTO:+0200
TZNAME:CEST
DTSTART:20230326T010000
END:DAYLIGHT
BEGIN:STANDARD
TZOFFSETFROM:+0200
TZOFFSETTO:+0100
TZNAME:CET
DTSTART:20231029T010000
END:STANDARD
BEGIN:DAYLIGHT
TZOFFSETFROM:+0100
TZOFFSETTO:+0200
TZNAME:CEST
DTSTART:20240331T010000
END:DAYLIGHT
BEGIN:STANDARD
TZOFFSETFROM:+0200
TZOFFSETTO:+0100
TZNAME:CET
DTSTART:20241027T010000
END:STANDARD
BEGIN:DAYLIGHT
TZOFFSETFROM:+0100
TZOFFSETTO:+0200
TZNAME:CEST
DTSTART:20250330T010000
END:DAYLIGHT
BEGIN:STANDARD
TZOFFSETFROM:+0200
TZOFFSETTO:+0100
TZNAME:CET
DTSTART:20251026T010000
END:STANDARD
END:VTIMEZONE
BEGIN:VEVENT
DTSTART;TZID=Europe/Paris:20240119T143000
DTEND;TZID=Europe/Paris:20240119T180000
DTSTAMP:20260421T071801
CREATED:20240103T124647Z
LAST-MODIFIED:20240103T124647Z
UID:4816-1705674600-1705687200@ville-lempdes.fr
SUMMARY:Goûter des Aînés
DESCRIPTION:Le C.C.A.S de Lempdes a le plaisir de convier les seniors lempdais à un goûter dansant vendredi 19 janvier de 14h30 à 18h à la Salle Alexandre Vialatte – La 2Deuche. Pour participer\, il faut être né avant le né(e) avant le 31 décembre 1951\, et résider à Lempdes. \nPour participer à cet après-midi festif\, merci de s’inscrire\, avant le 10 janvier prochain\, par téléphone auprès du CCAS de Lempdes au 04 73 83 74 70 ou par mail à : s.social@mairie-lempdes.fr \n  \n 
URL:https://ville-lempdes.fr/event/gouter-aines-lempdes/
LOCATION:la 2Deuche\, rue Alexandre Vialatte\, Lempdes\, 63370
ATTACH;FMTTYPE=image/gif:https://ville-lempdes.fr/wp-content/uploads/2024/01/personnes-agees-actives-dansant-illustration-symboles-style-vie-actif-isometrique_1284-33433.gif
ORGANIZER;CN="C.C.A.S.":MAILTO:s.social@mairie-lempdes.fr
END:VEVENT
BEGIN:VEVENT
DTSTART;TZID=Europe/Paris:20240128T150000
DTEND;TZID=Europe/Paris:20240128T180000
DTSTAMP:20260421T071801
CREATED:20240122T085018Z
LAST-MODIFIED:20240122T085018Z
UID:4926-1706454000-1706464800@ville-lempdes.fr
SUMMARY:Après-midi théâtre
DESCRIPTION:L’association France Yémen pour l’Education (ACFYE) propose un après-midi de théâtre Dimanche 28 janvier à 15 heures\, à la salle des fêtes\, avec la Troupe des Charmeix de Vitrac.  » Ma femme tient le volant « est une pièce humoristique en 3 actes\, de Charles Val. Un homme assume seul les tâches domestiques (et ce n’est pas rien en 1930!) alors que son épouse travaille pour un journal et se mêle de politique. \nEntrée 10 euros . Réservations au : 06.88.95.51.27 – 06.62.59.28.96 \nL’ACFYE œuvre pour les enfants au Yémen. Malgré et à cause des problèmes politiques du pays\, les enfants et familles yéménites ont encore et toujours plus besoin de notre aide\, ils ne sont que victimes de cette situation. Nous vous espérons donc toujours aussi nombreux pour les soutenir. \n  \n  \n 
URL:https://ville-lempdes.fr/event/theatre/
LOCATION:salle des Fêtes\, place Charles de Gaulle\, Lempdes\, 63370\, France
ATTACH;FMTTYPE=image/gif:https://ville-lempdes.fr/wp-content/uploads/2024/01/LEMPDES_28_01_24_Affiche.gif
END:VEVENT
END:VCALENDAR