BEGIN:VCALENDAR
VERSION:2.0
PRODID:-//Mairie de Lempdes - ECPv6.15.20//NONSGML v1.0//EN
CALSCALE:GREGORIAN
METHOD:PUBLISH
X-WR-CALNAME:Mairie de Lempdes
X-ORIGINAL-URL:https://ville-lempdes.fr
X-WR-CALDESC:Évènements pour Mairie de Lempdes
REFRESH-INTERVAL;VALUE=DURATION:PT1H
X-Robots-Tag:noindex
X-PUBLISHED-TTL:PT1H
BEGIN:VTIMEZONE
TZID:Europe/Paris
BEGIN:DAYLIGHT
TZOFFSETFROM:+0100
TZOFFSETTO:+0200
TZNAME:CEST
DTSTART:20240331T010000
END:DAYLIGHT
BEGIN:STANDARD
TZOFFSETFROM:+0200
TZOFFSETTO:+0100
TZNAME:CET
DTSTART:20241027T010000
END:STANDARD
BEGIN:DAYLIGHT
TZOFFSETFROM:+0100
TZOFFSETTO:+0200
TZNAME:CEST
DTSTART:20250330T010000
END:DAYLIGHT
BEGIN:STANDARD
TZOFFSETFROM:+0200
TZOFFSETTO:+0100
TZNAME:CET
DTSTART:20251026T010000
END:STANDARD
BEGIN:DAYLIGHT
TZOFFSETFROM:+0100
TZOFFSETTO:+0200
TZNAME:CEST
DTSTART:20260329T010000
END:DAYLIGHT
BEGIN:STANDARD
TZOFFSETFROM:+0200
TZOFFSETTO:+0100
TZNAME:CET
DTSTART:20261025T010000
END:STANDARD
END:VTIMEZONE
BEGIN:VEVENT
DTSTART;TZID=Europe/Paris:20251214T090000
DTEND;TZID=Europe/Paris:20251214T120000
DTSTAMP:20260419T184221
CREATED:20251205T081117Z
LAST-MODIFIED:20251205T081117Z
UID:10878-1765702800-1765713600@ville-lempdes.fr
SUMMARY:Tripe
DESCRIPTION:Venez partager la tripe du Téléthon\, organisée par Génétique Lempdes\, à la salle des Fêtes\, dimanche 14 décembre de 9h à 12h.\nAu menu : Tripe – Fromage – Tarte – Vin et café\nLa totalité des bénéfices sera versée à l’AFM Téléthon.\nL’inscription\, de 20 €\, se fait auprès de Danielle Misic 06-07-56-30-39 ou daniellemisic63@gmail.com (les chèques doivent être libellés à l’ordre de génétique Lempdes.
URL:https://ville-lempdes.fr/event/tripe-du-telethon/
LOCATION:salle des Fêtes\, place Charles de Gaulle\, Lempdes\, 63370\, France
ATTACH;FMTTYPE=image/jpeg:https://ville-lempdes.fr/wp-content/uploads/2025/12/Inscription-tripes-2025.jpg
ORGANIZER;CN="G%C3%A9n%C3%A9tique Lempdes":MAILTO:daniellemisic63@gmail.com
END:VEVENT
END:VCALENDAR