BEGIN:VCALENDAR
VERSION:2.0
PRODID:-//Mairie de Lempdes - ECPv6.15.20//NONSGML v1.0//EN
CALSCALE:GREGORIAN
METHOD:PUBLISH
X-WR-CALNAME:Mairie de Lempdes
X-ORIGINAL-URL:https://ville-lempdes.fr
X-WR-CALDESC:Évènements pour Mairie de Lempdes
REFRESH-INTERVAL;VALUE=DURATION:PT1H
X-Robots-Tag:noindex
X-PUBLISHED-TTL:PT1H
BEGIN:VTIMEZONE
TZID:Europe/Paris
BEGIN:DAYLIGHT
TZOFFSETFROM:+0100
TZOFFSETTO:+0200
TZNAME:CEST
DTSTART:20240331T010000
END:DAYLIGHT
BEGIN:STANDARD
TZOFFSETFROM:+0200
TZOFFSETTO:+0100
TZNAME:CET
DTSTART:20241027T010000
END:STANDARD
BEGIN:DAYLIGHT
TZOFFSETFROM:+0100
TZOFFSETTO:+0200
TZNAME:CEST
DTSTART:20250330T010000
END:DAYLIGHT
BEGIN:STANDARD
TZOFFSETFROM:+0200
TZOFFSETTO:+0100
TZNAME:CET
DTSTART:20251026T010000
END:STANDARD
BEGIN:DAYLIGHT
TZOFFSETFROM:+0100
TZOFFSETTO:+0200
TZNAME:CEST
DTSTART:20260329T010000
END:DAYLIGHT
BEGIN:STANDARD
TZOFFSETFROM:+0200
TZOFFSETTO:+0100
TZNAME:CET
DTSTART:20261025T010000
END:STANDARD
END:VTIMEZONE
BEGIN:VEVENT
DTSTART;TZID=Europe/Paris:20251026T100000
DTEND;TZID=Europe/Paris:20251026T120000
DTSTAMP:20260419T215833
CREATED:20251016T073524Z
LAST-MODIFIED:20251016T073524Z
UID:10641-1761472800-1761480000@ville-lempdes.fr
SUMMARY:Concert – Land for Play
DESCRIPTION:Le groupe lempdais pop-rock Land for Play sera en concert dimanche 26 octobre\,\n\n\n📍 Place Charles-de-Gaulle\, à 10h !\n\n\n \n\n\n🎸 5 musiciens et chanteurs vous feront (re)découvrir leur nouveau répertoire dans une ambiance conviviale et festive.\n\n\n \n\n\nUn moment musical à ne pas manquer ! 🎵
URL:https://ville-lempdes.fr/event/concert-land-for-play/
LOCATION:place Charles-de-Gaulle\, Lempdes\, 63370
ATTACH;FMTTYPE=image/jpeg:https://ville-lempdes.fr/wp-content/uploads/2025/10/image1-scaled.jpeg
END:VEVENT
END:VCALENDAR