BEGIN:VCALENDAR
VERSION:2.0
PRODID:-//Mairie de Lempdes - ECPv6.15.20//NONSGML v1.0//EN
CALSCALE:GREGORIAN
METHOD:PUBLISH
X-ORIGINAL-URL:https://ville-lempdes.fr
X-WR-CALDESC:Évènements pour Mairie de Lempdes
REFRESH-INTERVAL;VALUE=DURATION:PT1H
X-Robots-Tag:noindex
X-PUBLISHED-TTL:PT1H
BEGIN:VTIMEZONE
TZID:Europe/Paris
BEGIN:DAYLIGHT
TZOFFSETFROM:+0100
TZOFFSETTO:+0200
TZNAME:CEST
DTSTART:20240331T010000
END:DAYLIGHT
BEGIN:STANDARD
TZOFFSETFROM:+0200
TZOFFSETTO:+0100
TZNAME:CET
DTSTART:20241027T010000
END:STANDARD
BEGIN:DAYLIGHT
TZOFFSETFROM:+0100
TZOFFSETTO:+0200
TZNAME:CEST
DTSTART:20250330T010000
END:DAYLIGHT
BEGIN:STANDARD
TZOFFSETFROM:+0200
TZOFFSETTO:+0100
TZNAME:CET
DTSTART:20251026T010000
END:STANDARD
BEGIN:DAYLIGHT
TZOFFSETFROM:+0100
TZOFFSETTO:+0200
TZNAME:CEST
DTSTART:20260329T010000
END:DAYLIGHT
BEGIN:STANDARD
TZOFFSETFROM:+0200
TZOFFSETTO:+0100
TZNAME:CET
DTSTART:20261025T010000
END:STANDARD
END:VTIMEZONE
BEGIN:VEVENT
DTSTART;VALUE=DATE:20250905
DTEND;VALUE=DATE:20251006
DTSTAMP:20260420T013153
CREATED:20250902T064927Z
LAST-MODIFIED:20250902T064927Z
UID:10264-1757030400-1759708799@ville-lempdes.fr
SUMMARY:Inscriptions Start'Up Junior Entreprise
DESCRIPTION:[NOUVEAUTES 2025-2026]\n\n\n\nLe Service Jeunesse de la ville de Lempdes propose aux jeunes Lempdais et Lempdaises deux nouvelles offres pour l’année scolaires 2025-2026 !\n\nPlus d’informations en image. \n\n\n\n Inscription sur votre espace famille à partir du 05 septembre jusqu’au 05 octobre !\n\n\n\nPour plus d’informations\, n’hésitez pas contacter le Service Enfance Jeunesse.
URL:https://ville-lempdes.fr/event/inscriptions-startup-junior-entreprise/
ATTACH;FMTTYPE=image/png:https://ville-lempdes.fr/wp-content/uploads/2025/09/Affiche-startup-junior-entreprise.pdf.png
END:VEVENT
BEGIN:VEVENT
DTSTART;VALUE=DATE:20250905
DTEND;VALUE=DATE:20251006
DTSTAMP:20260420T013153
CREATED:20250902T065052Z
LAST-MODIFIED:20250902T065052Z
UID:10267-1757030400-1759708799@ville-lempdes.fr
SUMMARY:Inscriptions Objectif Parcoursup
DESCRIPTION:[NOUVEAUTES 2025-2026]\n\n\n\nLe Service Jeunesse de la ville de Lempdes propose aux jeunes Lempdais et Lempdaises deux nouvelles offres pour l’année scolaires 2025-2026 !\n\nPlus d’informations en image. \n\n\n\n Inscription sur votre espace famille à partir du 05 septembre jusqu’au 05 octobre !\n\n\n\nPour plus d’informations\, n’hésitez pas contacter le Service Enfance Jeunesse.
URL:https://ville-lempdes.fr/event/inscriptions-objectif-parcoursup/
ATTACH;FMTTYPE=image/png:https://ville-lempdes.fr/wp-content/uploads/2025/09/Affiche-objectif-parcours-sup.pdf.png
END:VEVENT
BEGIN:VEVENT
DTSTART;TZID=Europe/Paris:20250927T100000
DTEND;TZID=Europe/Paris:20250927T170000
DTSTAMP:20260420T013153
CREATED:20250925T071134Z
LAST-MODIFIED:20250925T101354Z
UID:10471-1758967200-1758992400@ville-lempdes.fr
SUMMARY:Eco-village des mobilités et du tri des déchets
DESCRIPTION:Rendez-vous samedi 27 septembre de 10h à 17h dans le parc de la mairie de Lempdes \n\n\n\n\n\n\n[ Éco-village : mobilités et tri des déchets]\n L’éco-village prend place dans le parc de la mairie\, samedi 27 septembre de 10h à 17h ! (1\, rue Saint-Verny\, 63370 Lempdes).\nVenez rencontrer les différents acteurs de la mobilité\,\nParticipez à l’atelier d’auto – réparation de vélo avec l’association la roue tourne\nTestez les jeux autour du tri des déchets\,\nPréparez votre smoothie grâce à vos coups de pédales ! (Amenez vos fruits pour préparer et déguster votre smoothie !)\n En famille ou entre amis\, venez découvrir des solutions simples et ludiques pour agir au quotidien !\n\n\n\n\n\n\n 
URL:https://ville-lempdes.fr/event/eco-village-mobilites-tri-des-dechets/
LOCATION:parc de la mairie\, 1 rue Saint-Verny\, Lempdes\, 63370
ATTACH;FMTTYPE=image/jpeg:https://ville-lempdes.fr/wp-content/uploads/2025/09/Affiche-eco-village_web-scaled.jpeg
END:VEVENT
END:VCALENDAR