BEGIN:VCALENDAR
VERSION:2.0
PRODID:-//Mairie de Lempdes - ECPv6.15.20//NONSGML v1.0//EN
CALSCALE:GREGORIAN
METHOD:PUBLISH
X-WR-CALNAME:Mairie de Lempdes
X-ORIGINAL-URL:https://ville-lempdes.fr
X-WR-CALDESC:Évènements pour Mairie de Lempdes
REFRESH-INTERVAL;VALUE=DURATION:PT1H
X-Robots-Tag:noindex
X-PUBLISHED-TTL:PT1H
BEGIN:VTIMEZONE
TZID:Europe/Paris
BEGIN:DAYLIGHT
TZOFFSETFROM:+0100
TZOFFSETTO:+0200
TZNAME:CEST
DTSTART:20240331T010000
END:DAYLIGHT
BEGIN:STANDARD
TZOFFSETFROM:+0200
TZOFFSETTO:+0100
TZNAME:CET
DTSTART:20241027T010000
END:STANDARD
BEGIN:DAYLIGHT
TZOFFSETFROM:+0100
TZOFFSETTO:+0200
TZNAME:CEST
DTSTART:20250330T010000
END:DAYLIGHT
BEGIN:STANDARD
TZOFFSETFROM:+0200
TZOFFSETTO:+0100
TZNAME:CET
DTSTART:20251026T010000
END:STANDARD
BEGIN:DAYLIGHT
TZOFFSETFROM:+0100
TZOFFSETTO:+0200
TZNAME:CEST
DTSTART:20260329T010000
END:DAYLIGHT
BEGIN:STANDARD
TZOFFSETFROM:+0200
TZOFFSETTO:+0100
TZNAME:CET
DTSTART:20261025T010000
END:STANDARD
END:VTIMEZONE
BEGIN:VEVENT
DTSTART;VALUE=DATE:20250507
DTEND;VALUE=DATE:20250510
DTSTAMP:20260420T064338
CREATED:20250428T065852Z
LAST-MODIFIED:20250428T070124Z
UID:9350-1746576000-1746835199@ville-lempdes.fr
SUMMARY:80e anniversaire de la Libération
DESCRIPTION:[ 80e anniversaire de la Libération ] \nAfin de commémorer les 80 ans de la fin de la Seconde Guerre mondiale et de la Libération\, la ville de Lempdes organise 3 jours de festivités les mercredi 7\, jeudi 8 et vendredi 9 mai 2025. \nConsultez le programme de la journée \n 
URL:https://ville-lempdes.fr/event/80e-anniversaire-de-la-liberation/
LOCATION:Lempdes\, 63370\, France
ATTACH;FMTTYPE=image/png:https://ville-lempdes.fr/wp-content/uploads/2025/04/Fete-de-la-victoire-Post-FB-.png
END:VEVENT
END:VCALENDAR