BEGIN:VCALENDAR
VERSION:2.0
PRODID:-//Mairie de Lempdes - ECPv6.15.20//NONSGML v1.0//EN
CALSCALE:GREGORIAN
METHOD:PUBLISH
X-WR-CALNAME:Mairie de Lempdes
X-ORIGINAL-URL:https://ville-lempdes.fr
X-WR-CALDESC:Évènements pour Mairie de Lempdes
REFRESH-INTERVAL;VALUE=DURATION:PT1H
X-Robots-Tag:noindex
X-PUBLISHED-TTL:PT1H
BEGIN:VTIMEZONE
TZID:Europe/Paris
BEGIN:DAYLIGHT
TZOFFSETFROM:+0100
TZOFFSETTO:+0200
TZNAME:CEST
DTSTART:20240331T010000
END:DAYLIGHT
BEGIN:STANDARD
TZOFFSETFROM:+0200
TZOFFSETTO:+0100
TZNAME:CET
DTSTART:20241027T010000
END:STANDARD
BEGIN:DAYLIGHT
TZOFFSETFROM:+0100
TZOFFSETTO:+0200
TZNAME:CEST
DTSTART:20250330T010000
END:DAYLIGHT
BEGIN:STANDARD
TZOFFSETFROM:+0200
TZOFFSETTO:+0100
TZNAME:CET
DTSTART:20251026T010000
END:STANDARD
BEGIN:DAYLIGHT
TZOFFSETFROM:+0100
TZOFFSETTO:+0200
TZNAME:CEST
DTSTART:20260329T010000
END:DAYLIGHT
BEGIN:STANDARD
TZOFFSETFROM:+0200
TZOFFSETTO:+0100
TZNAME:CET
DTSTART:20261025T010000
END:STANDARD
END:VTIMEZONE
BEGIN:VEVENT
DTSTART;TZID=Europe/Paris:20250426T080000
DTEND;TZID=Europe/Paris:20250427T120000
DTSTAMP:20260420T083234
CREATED:20250407T144320Z
LAST-MODIFIED:20250407T144850Z
UID:9032-1745654400-1745755200@ville-lempdes.fr
SUMMARY:Une rose\, un espoir
DESCRIPTION:Une rose\, un espoir – 28ème édition \nPour leur 1ère édition dans le Puy-de-Dôme\, venez retrouver les Motards d’Une rose\, un espoir pour la préparation des roses contre le cancer\, les samedis et dimanches matin 26 et 27 avril 2025. \n 
URL:https://ville-lempdes.fr/event/une-rose-un-espoir/
LOCATION:Centre ville de Lempdes\, Lempdes\, 63370\, France
ATTACH;FMTTYPE=image/jpeg:https://ville-lempdes.fr/wp-content/uploads/2025/03/Une-rose-pour-le-cancer-pour-le-18-avril.jpg
END:VEVENT
END:VCALENDAR