BEGIN:VCALENDAR
VERSION:2.0
PRODID:-//Mairie de Lempdes - ECPv6.15.20//NONSGML v1.0//EN
CALSCALE:GREGORIAN
METHOD:PUBLISH
X-WR-CALNAME:Mairie de Lempdes
X-ORIGINAL-URL:https://ville-lempdes.fr
X-WR-CALDESC:Évènements pour Mairie de Lempdes
REFRESH-INTERVAL;VALUE=DURATION:PT1H
X-Robots-Tag:noindex
X-PUBLISHED-TTL:PT1H
BEGIN:VTIMEZONE
TZID:Europe/Paris
BEGIN:DAYLIGHT
TZOFFSETFROM:+0100
TZOFFSETTO:+0200
TZNAME:CEST
DTSTART:20240331T010000
END:DAYLIGHT
BEGIN:STANDARD
TZOFFSETFROM:+0200
TZOFFSETTO:+0100
TZNAME:CET
DTSTART:20241027T010000
END:STANDARD
BEGIN:DAYLIGHT
TZOFFSETFROM:+0100
TZOFFSETTO:+0200
TZNAME:CEST
DTSTART:20250330T010000
END:DAYLIGHT
BEGIN:STANDARD
TZOFFSETFROM:+0200
TZOFFSETTO:+0100
TZNAME:CET
DTSTART:20251026T010000
END:STANDARD
BEGIN:DAYLIGHT
TZOFFSETFROM:+0100
TZOFFSETTO:+0200
TZNAME:CEST
DTSTART:20260329T010000
END:DAYLIGHT
BEGIN:STANDARD
TZOFFSETFROM:+0200
TZOFFSETTO:+0100
TZNAME:CET
DTSTART:20261025T010000
END:STANDARD
END:VTIMEZONE
BEGIN:VEVENT
DTSTART;TZID=Europe/Paris:20250413T083000
DTEND;TZID=Europe/Paris:20250413T163000
DTSTAMP:20260420T083321
CREATED:20250407T143853Z
LAST-MODIFIED:20250407T144118Z
UID:9221-1744533000-1744561800@ville-lempdes.fr
SUMMARY:Vide grenier du COS le 13 avril 2025
DESCRIPTION:Le Comité des Œuvres Sociales (COS) de Lempdes organise son vide grenier. Il se tiendra le dimanche 13 avril 2025 de 8h30 à 16h30 à La 2Deuche. \n  \n  \n 
URL:https://ville-lempdes.fr/event/vide-grenier-du-cos-le-13-avril-2025/
LOCATION:la 2Deuche\, rue Alexandre Vialatte\, Lempdes\, 63370
ATTACH;FMTTYPE=image/jpeg:https://ville-lempdes.fr/wp-content/uploads/2025/04/Affiche-Vide-Grenier-COS-Avril-2025-scaled.jpg
END:VEVENT
END:VCALENDAR