BEGIN:VCALENDAR
VERSION:2.0
PRODID:-//Mairie de Lempdes - ECPv6.15.20//NONSGML v1.0//EN
CALSCALE:GREGORIAN
METHOD:PUBLISH
X-ORIGINAL-URL:https://ville-lempdes.fr
X-WR-CALDESC:Évènements pour Mairie de Lempdes
REFRESH-INTERVAL;VALUE=DURATION:PT1H
X-Robots-Tag:noindex
X-PUBLISHED-TTL:PT1H
BEGIN:VTIMEZONE
TZID:Europe/Paris
BEGIN:DAYLIGHT
TZOFFSETFROM:+0100
TZOFFSETTO:+0200
TZNAME:CEST
DTSTART:20240331T010000
END:DAYLIGHT
BEGIN:STANDARD
TZOFFSETFROM:+0200
TZOFFSETTO:+0100
TZNAME:CET
DTSTART:20241027T010000
END:STANDARD
BEGIN:DAYLIGHT
TZOFFSETFROM:+0100
TZOFFSETTO:+0200
TZNAME:CEST
DTSTART:20250330T010000
END:DAYLIGHT
BEGIN:STANDARD
TZOFFSETFROM:+0200
TZOFFSETTO:+0100
TZNAME:CET
DTSTART:20251026T010000
END:STANDARD
BEGIN:DAYLIGHT
TZOFFSETFROM:+0100
TZOFFSETTO:+0200
TZNAME:CEST
DTSTART:20260329T010000
END:DAYLIGHT
BEGIN:STANDARD
TZOFFSETFROM:+0200
TZOFFSETTO:+0100
TZNAME:CET
DTSTART:20261025T010000
END:STANDARD
END:VTIMEZONE
BEGIN:VEVENT
DTSTART;VALUE=DATE:20250715
DTEND;VALUE=DATE:20250801
DTSTAMP:20260420T101758
CREATED:20250717T122910Z
LAST-MODIFIED:20250717T122910Z
UID:10195-1752537600-1754006399@ville-lempdes.fr
SUMMARY:Avis d'enquête publique
DESCRIPTION:Relative à la modification du tableau de recensement des chemins ruraux \n  \nPar arrêté du 20 juin 2025\, le Maire de LEMPDES a prescrit et organisé une enquête publique relative à la modification du tableau de recensement des chemins ruraux et notamment à la suppression et création sur l’ensemble du territoire de la commune du mardi 15 juillet 2025 à 14H00 jusqu’au 31 juillet 2025 17H00. \n  \nAfin que chacun puisse en prendre connaissance\, un dossier et un registre d’enquête publique seront déposés en Mairie de LEMPDES\, Service technique et urbanisme\, 1 rue Saint Verny\, 63370 LEMPDES aux jours et heures habituelles d’ouverture : \n\nLe lundi\, mardi\, mercredi de 08h30 à 12h et de 13h à 17h\nLe jeudi de 13h à 17h\nLe vendredi de 08h30 à 12h\n\n  \nChacun pourra prendre connaissance du dossier d’enquête et consigner éventuellement ses observations sur le registre d’enquête disponible en Mairie ou les adresser par écrit par voie postale à Monsieur le Commissaire Enquêteur\, Mairie de Lempdes\, Service Urbanisme\, 1 rue Saint Verny 63370 LEMPDES ou bien par mail à l’adresse s.urbanisme@mairie-lempdes.fr pendant la durée d’ouverture de l’enquête publique. \n  \nMonsieur Pierre COMTE désigné en qualité de commissaire enquêteur\, recevra le public en Mairie\, 1 rue Saint Verny\, salle des Mariages\, aux jours et heures suivants : \n\nMardi 15 juillet 2025 de 14H00 à 17H00\nJeudi 31 juillet 2025 de 14H00 à 17H00\n\n  \nLes informations concernant le projet de modification du tableau des chemins ruraux peuvent être demandées à la Mairie\, 1 rue Saint Verny\, 63370 LEMPDES.\nLes copies du rapport et des conclusions du commissaire enquêteur seront tenues à disposition du public pendant une durée d’un an à compter de la date de clôture de l’enquête à la Mairie.\nAprès l’enquête publique\, le projet de modification du tableau de recensement des chemins ruraux sera soumis à délibération du conseil municipal\, autorité compétente. \n  \n  \n 
URL:https://ville-lempdes.fr/event/avis-denquete-publique/
END:VEVENT
END:VCALENDAR