BEGIN:VCALENDAR
VERSION:2.0
PRODID:-//Mairie de Lempdes - ECPv6.15.20//NONSGML v1.0//EN
CALSCALE:GREGORIAN
METHOD:PUBLISH
X-ORIGINAL-URL:https://ville-lempdes.fr
X-WR-CALDESC:Évènements pour Mairie de Lempdes
REFRESH-INTERVAL;VALUE=DURATION:PT1H
X-Robots-Tag:noindex
X-PUBLISHED-TTL:PT1H
BEGIN:VTIMEZONE
TZID:Europe/Paris
BEGIN:DAYLIGHT
TZOFFSETFROM:+0100
TZOFFSETTO:+0200
TZNAME:CEST
DTSTART:20230326T010000
END:DAYLIGHT
BEGIN:STANDARD
TZOFFSETFROM:+0200
TZOFFSETTO:+0100
TZNAME:CET
DTSTART:20231029T010000
END:STANDARD
BEGIN:DAYLIGHT
TZOFFSETFROM:+0100
TZOFFSETTO:+0200
TZNAME:CEST
DTSTART:20240331T010000
END:DAYLIGHT
BEGIN:STANDARD
TZOFFSETFROM:+0200
TZOFFSETTO:+0100
TZNAME:CET
DTSTART:20241027T010000
END:STANDARD
BEGIN:DAYLIGHT
TZOFFSETFROM:+0100
TZOFFSETTO:+0200
TZNAME:CEST
DTSTART:20250330T010000
END:DAYLIGHT
BEGIN:STANDARD
TZOFFSETFROM:+0200
TZOFFSETTO:+0100
TZNAME:CET
DTSTART:20251026T010000
END:STANDARD
END:VTIMEZONE
BEGIN:VEVENT
DTSTART;TZID=Europe/Paris:20241129T183000
DTEND;TZID=Europe/Paris:20241129T200000
DTSTAMP:20260420T144119
CREATED:20241115T100316Z
LAST-MODIFIED:20241115T100316Z
UID:8387-1732905000-1732910400@ville-lempdes.fr
SUMMARY:Accueil des nouveaux lempdais
DESCRIPTION:📍La municipalité de Lempdes est heureuse d’accueillir les nouveaux lempdais lors d’un moment convivial vendredi 29 novembre à 18h30 à l’Agora (3\, rue de la Réserve). \n📍Cette rencontre sera l’occasion de présenter la ville\, ses services\, la richesse de la vie associative et de rencontrer les élus. \n📍Vous êtes nouvel arrivant à Lempdes et vous souhaitez participer à cette réunion d’accueil ? Merci de vous inscrire à l’accueil de la mairie au 04 73 83 74 74 ou par mail à : contact@mairie-lempdes.fr
URL:https://ville-lempdes.fr/event/accueil_nouveaux_lempdais/
LOCATION:agora
ATTACH;FMTTYPE=image/jpeg:https://ville-lempdes.fr/wp-content/uploads/2024/11/Accueil_nouveaux_lempdais.jpg
END:VEVENT
END:VCALENDAR