BEGIN:VCALENDAR
VERSION:2.0
PRODID:-//Mairie de Lempdes - ECPv6.15.20//NONSGML v1.0//EN
CALSCALE:GREGORIAN
METHOD:PUBLISH
X-WR-CALNAME:Mairie de Lempdes
X-ORIGINAL-URL:https://ville-lempdes.fr
X-WR-CALDESC:Évènements pour Mairie de Lempdes
REFRESH-INTERVAL;VALUE=DURATION:PT1H
X-Robots-Tag:noindex
X-PUBLISHED-TTL:PT1H
BEGIN:VTIMEZONE
TZID:Europe/Paris
BEGIN:DAYLIGHT
TZOFFSETFROM:+0100
TZOFFSETTO:+0200
TZNAME:CEST
DTSTART:20230326T010000
END:DAYLIGHT
BEGIN:STANDARD
TZOFFSETFROM:+0200
TZOFFSETTO:+0100
TZNAME:CET
DTSTART:20231029T010000
END:STANDARD
BEGIN:DAYLIGHT
TZOFFSETFROM:+0100
TZOFFSETTO:+0200
TZNAME:CEST
DTSTART:20240331T010000
END:DAYLIGHT
BEGIN:STANDARD
TZOFFSETFROM:+0200
TZOFFSETTO:+0100
TZNAME:CET
DTSTART:20241027T010000
END:STANDARD
BEGIN:DAYLIGHT
TZOFFSETFROM:+0100
TZOFFSETTO:+0200
TZNAME:CEST
DTSTART:20250330T010000
END:DAYLIGHT
BEGIN:STANDARD
TZOFFSETFROM:+0200
TZOFFSETTO:+0100
TZNAME:CET
DTSTART:20251026T010000
END:STANDARD
END:VTIMEZONE
BEGIN:VEVENT
DTSTART;TZID=Europe/Paris:20240927T140000
DTEND;TZID=Europe/Paris:20240927T170000
DTSTAMP:20260420T193501
CREATED:20240927T082641Z
LAST-MODIFIED:20240927T083155Z
UID:8215-1727445600-1727456400@ville-lempdes.fr
SUMMARY:Visite de l'entreprise Audebert
DESCRIPTION:[ Dans le cadre des semaines européennes du développement durable ]\n \nVendredi 27 septembre à 14h et 15h30 : Visite de l’entreprise Audebert (1h30″) \nRDV aux horaires de début de visite\, sur place (15 rue Jean Bapt) pour cette visite d’entreprise. Découvrez un savoir-faire engagé et dégustez ! \n\n\n\nObjectifs : Consommation et production responsable (établir des modes de consommation & de production durables)\n\n\n\nConsultez le programme des manifestations gratuites organisées du 21 au 29 septembre \n \n  \n 
URL:https://ville-lempdes.fr/event/visite-de-lentreprise-audebert/
LOCATION:15 rue Jean Bapt
ATTACH;FMTTYPE=image/png:https://ville-lempdes.fr/wp-content/uploads/2024/09/Affiche_site.png
END:VEVENT
BEGIN:VEVENT
DTSTART;TZID=Europe/Paris:20240927T150000
DTEND;TZID=Europe/Paris:20240927T170000
DTSTAMP:20260420T193501
CREATED:20240927T083802Z
LAST-MODIFIED:20240927T083802Z
UID:8219-1727449200-1727456400@ville-lempdes.fr
SUMMARY:Visite des serres
DESCRIPTION:[ Dans le cadre des semaines européennes du développement durable ]\n \nVendredi 27 septembre de 15h à 17h : Découvrez l’engagement du Pôle Environnement au quotidien ! \nRDV aux serres du centre technique municipal (rue de Milan)\, pour une visite commentée des lieux\, et découvrez les techniques utilisées et le matériel \n\n\n\nObjectifs : Ville et communautés durables (faire en sorte que les villes et les établissements humains soient ouverts à tous\, sûrs\, résilients et durables)\n\n\n\nConsultez le programme des manifestations gratuites organisées du 21 au 29 septembre \n \n  \n 
URL:https://ville-lempdes.fr/event/visite-des-serres/
LOCATION:centre technique municipal
ATTACH;FMTTYPE=image/png:https://ville-lempdes.fr/wp-content/uploads/2024/09/Affiche_site.png
END:VEVENT
BEGIN:VEVENT
DTSTART;TZID=Europe/Paris:20240927T200000
DTEND;TZID=Europe/Paris:20240927T220000
DTSTAMP:20260420T193501
CREATED:20240927T085839Z
LAST-MODIFIED:20240927T085839Z
UID:8222-1727467200-1727474400@ville-lempdes.fr
SUMMARY:Projection - débat "Les Incorrectes"
DESCRIPTION:[ Dans le cadre des semaines européennes du développement durable ]\n \nVendredi 27 septembre à 20h : Projection-débat gratuite autour du film « Les Incorrectes »\n \nRDV à 20h à la 2Deuche pour découvrir ce film qui retrace l’histoire d’Alice Milliat et du sport au féminin. \nAliceMilliat fonde en 1921 la Fédération sportive féminine internationale. Elle fait de la participation des femmes aux Jeux Olympiques son plus grand combat\n \n\nObjectif : Egalité entre les sexes (réaliser l’égalité des sexes et autonomiser toutes les femmes et les filles)\n\nConsultez le programme des manifestations gratuites organisées du 21 au 29 septembre \n \n  \n 
URL:https://ville-lempdes.fr/event/projection-debat-les-incorrectes/
LOCATION:la 2Deuche\, rue Alexandre Vialatte\, Lempdes\, 63370
ATTACH;FMTTYPE=image/png:https://ville-lempdes.fr/wp-content/uploads/2024/09/Affiche_site.png
END:VEVENT
END:VCALENDAR