BEGIN:VCALENDAR
VERSION:2.0
PRODID:-//Mairie de Lempdes - ECPv6.15.20//NONSGML v1.0//EN
CALSCALE:GREGORIAN
METHOD:PUBLISH
X-ORIGINAL-URL:https://ville-lempdes.fr
X-WR-CALDESC:Évènements pour Mairie de Lempdes
REFRESH-INTERVAL;VALUE=DURATION:PT1H
X-Robots-Tag:noindex
X-PUBLISHED-TTL:PT1H
BEGIN:VTIMEZONE
TZID:Europe/Paris
BEGIN:DAYLIGHT
TZOFFSETFROM:+0100
TZOFFSETTO:+0200
TZNAME:CEST
DTSTART:20230326T010000
END:DAYLIGHT
BEGIN:STANDARD
TZOFFSETFROM:+0200
TZOFFSETTO:+0100
TZNAME:CET
DTSTART:20231029T010000
END:STANDARD
BEGIN:DAYLIGHT
TZOFFSETFROM:+0100
TZOFFSETTO:+0200
TZNAME:CEST
DTSTART:20240331T010000
END:DAYLIGHT
BEGIN:STANDARD
TZOFFSETFROM:+0200
TZOFFSETTO:+0100
TZNAME:CET
DTSTART:20241027T010000
END:STANDARD
BEGIN:DAYLIGHT
TZOFFSETFROM:+0100
TZOFFSETTO:+0200
TZNAME:CEST
DTSTART:20250330T010000
END:DAYLIGHT
BEGIN:STANDARD
TZOFFSETFROM:+0200
TZOFFSETTO:+0100
TZNAME:CET
DTSTART:20251026T010000
END:STANDARD
END:VTIMEZONE
BEGIN:VEVENT
DTSTART;TZID=Europe/Paris:20240819T153000
DTEND;TZID=Europe/Paris:20240819T190000
DTSTAMP:20260420T210701
CREATED:20240724T063434Z
LAST-MODIFIED:20240724T063434Z
UID:7961-1724081400-1724094000@ville-lempdes.fr
SUMMARY:Don de sang
DESCRIPTION:Participez à la collecte de sang lundi 19 août de 15h30 à 19h à la 2Deuche. Inscriptions sur : dondesang.efs.sante.fr \n \n 
URL:https://ville-lempdes.fr/event/don-de-sang-2/
LOCATION:la 2Deuche\, rue Alexandre Vialatte\, Lempdes\, 63370
ATTACH;FMTTYPE=image/jpeg:https://ville-lempdes.fr/wp-content/uploads/2024/07/collecte-19.08.2024-scaled.jpg
END:VEVENT
END:VCALENDAR