BEGIN:VCALENDAR
VERSION:2.0
PRODID:-//Mairie de Lempdes - ECPv6.15.20//NONSGML v1.0//EN
CALSCALE:GREGORIAN
METHOD:PUBLISH
X-ORIGINAL-URL:https://ville-lempdes.fr
X-WR-CALDESC:Évènements pour Mairie de Lempdes
REFRESH-INTERVAL;VALUE=DURATION:PT1H
X-Robots-Tag:noindex
X-PUBLISHED-TTL:PT1H
BEGIN:VTIMEZONE
TZID:Europe/Paris
BEGIN:DAYLIGHT
TZOFFSETFROM:+0100
TZOFFSETTO:+0200
TZNAME:CEST
DTSTART:20230326T010000
END:DAYLIGHT
BEGIN:STANDARD
TZOFFSETFROM:+0200
TZOFFSETTO:+0100
TZNAME:CET
DTSTART:20231029T010000
END:STANDARD
BEGIN:DAYLIGHT
TZOFFSETFROM:+0100
TZOFFSETTO:+0200
TZNAME:CEST
DTSTART:20240331T010000
END:DAYLIGHT
BEGIN:STANDARD
TZOFFSETFROM:+0200
TZOFFSETTO:+0100
TZNAME:CET
DTSTART:20241027T010000
END:STANDARD
BEGIN:DAYLIGHT
TZOFFSETFROM:+0100
TZOFFSETTO:+0200
TZNAME:CEST
DTSTART:20250330T010000
END:DAYLIGHT
BEGIN:STANDARD
TZOFFSETFROM:+0200
TZOFFSETTO:+0100
TZNAME:CET
DTSTART:20251026T010000
END:STANDARD
END:VTIMEZONE
BEGIN:VEVENT
DTSTART;TZID=Europe/Paris:20240210T140000
DTEND;TZID=Europe/Paris:20240210T190000
DTSTAMP:20260421T071958
CREATED:20240205T084225Z
LAST-MODIFIED:20240205T084225Z
UID:4959-1707573600-1707591600@ville-lempdes.fr
SUMMARY:Loto de l'Orchestre d'Harmonie de Lempdes
DESCRIPTION:L’association des membres de l’Orchestre d’Harmonie de Lempdes vous invite à son loto\, samedi 10 février à 14h à la salle Vialatte (ouverture des portes à 12h30). De nombreux lots à gagner\, dont un séjour au cœur des Volcans d’Auvergne\, une trottinette électrique ou encore une machine à expresso. \nSur place : buvette et stand de crêpes \n1 carton = 5 € / 3 cartons = 10 € / 5 cartons : 15 € / 8 cartons : 20 € \n  \n  \n 
URL:https://ville-lempdes.fr/event/loto-ohl/
LOCATION:la 2Deuche\, rue Alexandre Vialatte\, Lempdes\, 63370
ATTACH;FMTTYPE=image/png:https://ville-lempdes.fr/wp-content/uploads/2024/02/loto.png
ORGANIZER;CN="OHL":MAILTO:harmonie.lempdes@gmail.com
END:VEVENT
END:VCALENDAR