BEGIN:VCALENDAR
VERSION:2.0
PRODID:-//Mairie de Lempdes - ECPv6.15.20//NONSGML v1.0//EN
CALSCALE:GREGORIAN
METHOD:PUBLISH
X-ORIGINAL-URL:https://ville-lempdes.fr
X-WR-CALDESC:Évènements pour Mairie de Lempdes
REFRESH-INTERVAL;VALUE=DURATION:PT1H
X-Robots-Tag:noindex
X-PUBLISHED-TTL:PT1H
BEGIN:VTIMEZONE
TZID:Europe/Paris
BEGIN:DAYLIGHT
TZOFFSETFROM:+0100
TZOFFSETTO:+0200
TZNAME:CEST
DTSTART:20230326T010000
END:DAYLIGHT
BEGIN:STANDARD
TZOFFSETFROM:+0200
TZOFFSETTO:+0100
TZNAME:CET
DTSTART:20231029T010000
END:STANDARD
BEGIN:DAYLIGHT
TZOFFSETFROM:+0100
TZOFFSETTO:+0200
TZNAME:CEST
DTSTART:20240331T010000
END:DAYLIGHT
BEGIN:STANDARD
TZOFFSETFROM:+0200
TZOFFSETTO:+0100
TZNAME:CET
DTSTART:20241027T010000
END:STANDARD
BEGIN:DAYLIGHT
TZOFFSETFROM:+0100
TZOFFSETTO:+0200
TZNAME:CEST
DTSTART:20250330T010000
END:DAYLIGHT
BEGIN:STANDARD
TZOFFSETFROM:+0200
TZOFFSETTO:+0100
TZNAME:CET
DTSTART:20251026T010000
END:STANDARD
END:VTIMEZONE
BEGIN:VEVENT
DTSTART;TZID=Europe/Paris:20240208T203000
DTEND;TZID=Europe/Paris:20240209T223000
DTSTAMP:20260421T071849
CREATED:20240205T090154Z
LAST-MODIFIED:20240205T090154Z
UID:4962-1707424200-1707517800@ville-lempdes.fr
SUMMARY:Soirée théâtre organisée par Lou Belladaires
DESCRIPTION:Soirée théâtre avec le pièce  » Trop au lit pour être honnête « \, par la compagnie Le Théâtre des 3 roues\, les 8 et 9 février à 20h30 à la salle des Fêtes de Lempdes. \nUne comédie avec des personnages haut en couleurs\, des quiproquos et des rebondissements qui vous tiendront en haleine ! \nTarif : 6 € – Contact : 06 30 65 65 30 \n  \n 
URL:https://ville-lempdes.fr/event/soiree-theatre/
LOCATION:salle des Fêtes\, place Charles de Gaulle\, Lempdes\, 63370\, France
ATTACH;FMTTYPE=image/jpeg:https://ville-lempdes.fr/wp-content/uploads/2024/02/963f2cd9a71ee8ac46e9890016927a28_theatre.jpg
END:VEVENT
END:VCALENDAR